BEGIN:VCALENDAR
VERSION:2.0
PRODID:-//Hunt Regional Healthcare - ECPv6.15.20//NONSGML v1.0//EN
CALSCALE:GREGORIAN
METHOD:PUBLISH
X-WR-CALNAME:Hunt Regional Healthcare
X-ORIGINAL-URL:https://www.huntregional.org
X-WR-CALDESC:Events for Hunt Regional Healthcare
REFRESH-INTERVAL;VALUE=DURATION:PT1H
X-Robots-Tag:noindex
X-PUBLISHED-TTL:PT1H
BEGIN:VTIMEZONE
TZID:UTC
BEGIN:STANDARD
TZOFFSETFROM:+0000
TZOFFSETTO:+0000
TZNAME:UTC
DTSTART:20290101T000000
END:STANDARD
END:VTIMEZONE
BEGIN:VEVENT
DTSTART;TZID=UTC:20300511T100000
DTEND;TZID=UTC:20300511T110000
DTSTAMP:20260425T103859
CREATED:20230731T043546Z
LAST-MODIFIED:20260302T193124Z
UID:10001043-1904724000-1904727600@www.huntregional.org
SUMMARY:Breastfeeding Support Group
DESCRIPTION:At our support group\, you can find support and encouragement as you breastfeed. At the group\, you’ll find moms helping other moms through the different stages of breastfeeding. A lactation nurse will be present at every meeting for additional support. \nHunt Regional Medical Center\n5th Floor Training Room\n4215 Joe Ramsey Blvd. in Greenville
URL:https://www.huntregional.org/event/breastfeeding-support-group/2030-05-11/
LOCATION:5th Floor Training Room\, 4215 Joe Ramsey Blvd E\, Greenville\, TX\, 75401\, United States
CATEGORIES:Breastfeeding Education,Home Featured,Support Groups
ATTACH;FMTTYPE=image/jpeg:https://www.huntregional.org/wp-content/uploads/2023/07/breatfeeding_support-group.jpg
END:VEVENT
BEGIN:VEVENT
DTSTART;TZID=UTC:20300608T100000
DTEND;TZID=UTC:20300608T110000
DTSTAMP:20260425T103859
CREATED:20230731T043546Z
LAST-MODIFIED:20260302T193124Z
UID:10001044-1907143200-1907146800@www.huntregional.org
SUMMARY:Breastfeeding Support Group
DESCRIPTION:At our support group\, you can find support and encouragement as you breastfeed. At the group\, you’ll find moms helping other moms through the different stages of breastfeeding. A lactation nurse will be present at every meeting for additional support. \nHunt Regional Medical Center\n5th Floor Training Room\n4215 Joe Ramsey Blvd. in Greenville
URL:https://www.huntregional.org/event/breastfeeding-support-group/2030-06-08/
LOCATION:5th Floor Training Room\, 4215 Joe Ramsey Blvd E\, Greenville\, TX\, 75401\, United States
CATEGORIES:Breastfeeding Education,Home Featured,Support Groups
ATTACH;FMTTYPE=image/jpeg:https://www.huntregional.org/wp-content/uploads/2023/07/breatfeeding_support-group.jpg
END:VEVENT
BEGIN:VEVENT
DTSTART;TZID=UTC:20300713T100000
DTEND;TZID=UTC:20300713T110000
DTSTAMP:20260425T103859
CREATED:20230731T043546Z
LAST-MODIFIED:20260302T193124Z
UID:10001045-1910167200-1910170800@www.huntregional.org
SUMMARY:Breastfeeding Support Group
DESCRIPTION:At our support group\, you can find support and encouragement as you breastfeed. At the group\, you’ll find moms helping other moms through the different stages of breastfeeding. A lactation nurse will be present at every meeting for additional support. \nHunt Regional Medical Center\n5th Floor Training Room\n4215 Joe Ramsey Blvd. in Greenville
URL:https://www.huntregional.org/event/breastfeeding-support-group/2030-07-13/
LOCATION:5th Floor Training Room\, 4215 Joe Ramsey Blvd E\, Greenville\, TX\, 75401\, United States
CATEGORIES:Breastfeeding Education,Home Featured,Support Groups
ATTACH;FMTTYPE=image/jpeg:https://www.huntregional.org/wp-content/uploads/2023/07/breatfeeding_support-group.jpg
END:VEVENT
BEGIN:VEVENT
DTSTART;TZID=UTC:20300810T100000
DTEND;TZID=UTC:20300810T110000
DTSTAMP:20260425T103859
CREATED:20230731T043546Z
LAST-MODIFIED:20260302T193124Z
UID:10001046-1912586400-1912590000@www.huntregional.org
SUMMARY:Breastfeeding Support Group
DESCRIPTION:At our support group\, you can find support and encouragement as you breastfeed. At the group\, you’ll find moms helping other moms through the different stages of breastfeeding. A lactation nurse will be present at every meeting for additional support. \nHunt Regional Medical Center\n5th Floor Training Room\n4215 Joe Ramsey Blvd. in Greenville
URL:https://www.huntregional.org/event/breastfeeding-support-group/2030-08-10/
LOCATION:5th Floor Training Room\, 4215 Joe Ramsey Blvd E\, Greenville\, TX\, 75401\, United States
CATEGORIES:Breastfeeding Education,Home Featured,Support Groups
ATTACH;FMTTYPE=image/jpeg:https://www.huntregional.org/wp-content/uploads/2023/07/breatfeeding_support-group.jpg
END:VEVENT
BEGIN:VEVENT
DTSTART;TZID=UTC:20300914T100000
DTEND;TZID=UTC:20300914T110000
DTSTAMP:20260425T103859
CREATED:20230731T043546Z
LAST-MODIFIED:20260302T193124Z
UID:10001047-1915610400-1915614000@www.huntregional.org
SUMMARY:Breastfeeding Support Group
DESCRIPTION:At our support group\, you can find support and encouragement as you breastfeed. At the group\, you’ll find moms helping other moms through the different stages of breastfeeding. A lactation nurse will be present at every meeting for additional support. \nHunt Regional Medical Center\n5th Floor Training Room\n4215 Joe Ramsey Blvd. in Greenville
URL:https://www.huntregional.org/event/breastfeeding-support-group/2030-09-14/
LOCATION:5th Floor Training Room\, 4215 Joe Ramsey Blvd E\, Greenville\, TX\, 75401\, United States
CATEGORIES:Breastfeeding Education,Home Featured,Support Groups
ATTACH;FMTTYPE=image/jpeg:https://www.huntregional.org/wp-content/uploads/2023/07/breatfeeding_support-group.jpg
END:VEVENT
BEGIN:VEVENT
DTSTART;TZID=UTC:20301012T100000
DTEND;TZID=UTC:20301012T110000
DTSTAMP:20260425T103859
CREATED:20230731T043546Z
LAST-MODIFIED:20260302T193124Z
UID:10001048-1918029600-1918033200@www.huntregional.org
SUMMARY:Breastfeeding Support Group
DESCRIPTION:At our support group\, you can find support and encouragement as you breastfeed. At the group\, you’ll find moms helping other moms through the different stages of breastfeeding. A lactation nurse will be present at every meeting for additional support. \nHunt Regional Medical Center\n5th Floor Training Room\n4215 Joe Ramsey Blvd. in Greenville
URL:https://www.huntregional.org/event/breastfeeding-support-group/2030-10-12/
LOCATION:5th Floor Training Room\, 4215 Joe Ramsey Blvd E\, Greenville\, TX\, 75401\, United States
CATEGORIES:Breastfeeding Education,Home Featured,Support Groups
ATTACH;FMTTYPE=image/jpeg:https://www.huntregional.org/wp-content/uploads/2023/07/breatfeeding_support-group.jpg
END:VEVENT
BEGIN:VEVENT
DTSTART;TZID=UTC:20301109T100000
DTEND;TZID=UTC:20301109T110000
DTSTAMP:20260425T103859
CREATED:20230731T043546Z
LAST-MODIFIED:20260302T193124Z
UID:10001061-1920448800-1920452400@www.huntregional.org
SUMMARY:Breastfeeding Support Group
DESCRIPTION:At our support group\, you can find support and encouragement as you breastfeed. At the group\, you’ll find moms helping other moms through the different stages of breastfeeding. A lactation nurse will be present at every meeting for additional support. \nHunt Regional Medical Center\n5th Floor Training Room\n4215 Joe Ramsey Blvd. in Greenville
URL:https://www.huntregional.org/event/breastfeeding-support-group/2030-11-09/
LOCATION:5th Floor Training Room\, 4215 Joe Ramsey Blvd E\, Greenville\, TX\, 75401\, United States
CATEGORIES:Breastfeeding Education,Home Featured,Support Groups
ATTACH;FMTTYPE=image/jpeg:https://www.huntregional.org/wp-content/uploads/2023/07/breatfeeding_support-group.jpg
END:VEVENT
BEGIN:VEVENT
DTSTART;TZID=UTC:20301214T100000
DTEND;TZID=UTC:20301214T110000
DTSTAMP:20260425T103859
CREATED:20230731T043546Z
LAST-MODIFIED:20260302T193124Z
UID:10001062-1923472800-1923476400@www.huntregional.org
SUMMARY:Breastfeeding Support Group
DESCRIPTION:At our support group\, you can find support and encouragement as you breastfeed. At the group\, you’ll find moms helping other moms through the different stages of breastfeeding. A lactation nurse will be present at every meeting for additional support. \nHunt Regional Medical Center\n5th Floor Training Room\n4215 Joe Ramsey Blvd. in Greenville
URL:https://www.huntregional.org/event/breastfeeding-support-group/2030-12-14/
LOCATION:5th Floor Training Room\, 4215 Joe Ramsey Blvd E\, Greenville\, TX\, 75401\, United States
CATEGORIES:Breastfeeding Education,Home Featured,Support Groups
ATTACH;FMTTYPE=image/jpeg:https://www.huntregional.org/wp-content/uploads/2023/07/breatfeeding_support-group.jpg
END:VEVENT
BEGIN:VEVENT
DTSTART;TZID=UTC:20310111T100000
DTEND;TZID=UTC:20310111T110000
DTSTAMP:20260425T103859
CREATED:20230731T043546Z
LAST-MODIFIED:20260302T193124Z
UID:10001063-1925892000-1925895600@www.huntregional.org
SUMMARY:Breastfeeding Support Group
DESCRIPTION:At our support group\, you can find support and encouragement as you breastfeed. At the group\, you’ll find moms helping other moms through the different stages of breastfeeding. A lactation nurse will be present at every meeting for additional support. \nHunt Regional Medical Center\n5th Floor Training Room\n4215 Joe Ramsey Blvd. in Greenville
URL:https://www.huntregional.org/event/breastfeeding-support-group/2031-01-11/
LOCATION:5th Floor Training Room\, 4215 Joe Ramsey Blvd E\, Greenville\, TX\, 75401\, United States
CATEGORIES:Breastfeeding Education,Home Featured,Support Groups
ATTACH;FMTTYPE=image/jpeg:https://www.huntregional.org/wp-content/uploads/2023/07/breatfeeding_support-group.jpg
END:VEVENT
BEGIN:VEVENT
DTSTART;TZID=UTC:20310208T100000
DTEND;TZID=UTC:20310208T110000
DTSTAMP:20260425T103859
CREATED:20230731T043546Z
LAST-MODIFIED:20260302T193124Z
UID:10001064-1928311200-1928314800@www.huntregional.org
SUMMARY:Breastfeeding Support Group
DESCRIPTION:At our support group\, you can find support and encouragement as you breastfeed. At the group\, you’ll find moms helping other moms through the different stages of breastfeeding. A lactation nurse will be present at every meeting for additional support. \nHunt Regional Medical Center\n5th Floor Training Room\n4215 Joe Ramsey Blvd. in Greenville
URL:https://www.huntregional.org/event/breastfeeding-support-group/2031-02-08/
LOCATION:5th Floor Training Room\, 4215 Joe Ramsey Blvd E\, Greenville\, TX\, 75401\, United States
CATEGORIES:Breastfeeding Education,Home Featured,Support Groups
ATTACH;FMTTYPE=image/jpeg:https://www.huntregional.org/wp-content/uploads/2023/07/breatfeeding_support-group.jpg
END:VEVENT
END:VCALENDAR