BEGIN:VCALENDAR
VERSION:2.0
PRODID:-//Hunt Regional Healthcare - ECPv6.15.20//NONSGML v1.0//EN
CALSCALE:GREGORIAN
METHOD:PUBLISH
X-ORIGINAL-URL:https://www.huntregional.org
X-WR-CALDESC:Events for Hunt Regional Healthcare
REFRESH-INTERVAL;VALUE=DURATION:PT1H
X-Robots-Tag:noindex
X-PUBLISHED-TTL:PT1H
BEGIN:VTIMEZONE
TZID:UTC
BEGIN:STANDARD
TZOFFSETFROM:+0000
TZOFFSETTO:+0000
TZNAME:UTC
DTSTART:20220101T000000
END:STANDARD
END:VTIMEZONE
BEGIN:VEVENT
DTSTART;TZID=UTC:20231111T100000
DTEND;TZID=UTC:20231111T110000
DTSTAMP:20260421T041421
CREATED:20230731T043546Z
LAST-MODIFIED:20260302T193124Z
UID:10000081-1699696800-1699700400@www.huntregional.org
SUMMARY:Breastfeeding Support Group
DESCRIPTION:At our support group\, you can find support and encouragement as you breastfeed. At the group\, you’ll find moms helping other moms through the different stages of breastfeeding. A lactation nurse will be present at every meeting for additional support. \nHunt Regional Medical Center\n5th Floor Training Room\n4215 Joe Ramsey Blvd. in Greenville
URL:https://www.huntregional.org/event/breastfeeding-support-group/2023-11-11/
LOCATION:5th Floor Training Room\, 4215 Joe Ramsey Blvd E\, Greenville\, TX\, 75401\, United States
CATEGORIES:Breastfeeding Education,Home Featured,Support Groups
ATTACH;FMTTYPE=image/jpeg:https://www.huntregional.org/wp-content/uploads/2023/07/breatfeeding_support-group.jpg
END:VEVENT
BEGIN:VEVENT
DTSTART;TZID=UTC:20231114T180000
DTEND;TZID=UTC:20231114T190000
DTSTAMP:20260421T041421
CREATED:20230731T210135Z
LAST-MODIFIED:20230827T074625Z
UID:10000021-1699984800-1699988400@www.huntregional.org
SUMMARY:Remember for Me Alzheimer's Caregivers Support Group
DESCRIPTION:Senior Center Resources and Public Transit\n4912 Lee Street\, Greenville 75401
URL:https://www.huntregional.org/event/remember-for-me-alzheimers-caregivers-support-group/2023-11-14/
LOCATION:Senior Center Resources and Public Transit\, 4912 Lee Street\, Greenville\, TX\, 75401\, United States
CATEGORIES:Support Groups
END:VEVENT
BEGIN:VEVENT
DTSTART;TZID=UTC:20231119T150000
DTEND;TZID=UTC:20231119T160000
DTSTAMP:20260421T041421
CREATED:20230731T204250Z
LAST-MODIFIED:20251027T212850Z
UID:10000141-1700406000-1700409600@www.huntregional.org
SUMMARY:Grief Support Group
DESCRIPTION:Hunt Regional Medical Center Conference Room 1
URL:https://www.huntregional.org/event/grief-support-group/2023-11-19/
LOCATION:Conference Room 1\, 4215 Joe Ramsey Blvd\, Greenville\, TX\, 75401\, United States
CATEGORIES:Grief Support Group,Home Featured,Support Groups
ATTACH;FMTTYPE=image/jpeg:https://www.huntregional.org/wp-content/uploads/2023/07/grief-support-group.jpg
END:VEVENT
END:VCALENDAR