BEGIN:VCALENDAR
VERSION:2.0
PRODID:-//Hunt Regional Healthcare - ECPv6.15.20//NONSGML v1.0//EN
CALSCALE:GREGORIAN
METHOD:PUBLISH
X-WR-CALNAME:Hunt Regional Healthcare
X-ORIGINAL-URL:https://www.huntregional.org
X-WR-CALDESC:Events for Hunt Regional Healthcare
REFRESH-INTERVAL;VALUE=DURATION:PT1H
X-Robots-Tag:noindex
X-PUBLISHED-TTL:PT1H
BEGIN:VTIMEZONE
TZID:America/Chicago
BEGIN:DAYLIGHT
TZOFFSETFROM:-0600
TZOFFSETTO:-0500
TZNAME:CDT
DTSTART:20250309T080000
END:DAYLIGHT
BEGIN:STANDARD
TZOFFSETFROM:-0500
TZOFFSETTO:-0600
TZNAME:CST
DTSTART:20251102T070000
END:STANDARD
BEGIN:DAYLIGHT
TZOFFSETFROM:-0600
TZOFFSETTO:-0500
TZNAME:CDT
DTSTART:20260308T080000
END:DAYLIGHT
BEGIN:STANDARD
TZOFFSETFROM:-0500
TZOFFSETTO:-0600
TZNAME:CST
DTSTART:20261101T070000
END:STANDARD
BEGIN:DAYLIGHT
TZOFFSETFROM:-0600
TZOFFSETTO:-0500
TZNAME:CDT
DTSTART:20270314T080000
END:DAYLIGHT
BEGIN:STANDARD
TZOFFSETFROM:-0500
TZOFFSETTO:-0600
TZNAME:CST
DTSTART:20271107T070000
END:STANDARD
END:VTIMEZONE
BEGIN:VEVENT
DTSTART;TZID=America/Chicago:20260418T120000
DTEND;TZID=America/Chicago:20260418T140000
DTSTAMP:20260420T051445
CREATED:20260410T195543Z
LAST-MODIFIED:20260410T195543Z
UID:10001151-1776513600-1776520800@www.huntregional.org
SUMMARY:Breastfeeding Education Class
DESCRIPTION:Join us for a comprehensive breastfeeding education class and prepare for a confident breastfeeding journey. You’ll learn breastfeeding techniques\, lactation maintenance\, and the benefits of breastfeeding. We’ll also prepare you for what to expect at our medical center and connect you with ongoing support resources for the weeks and months ahead. \nFathers and other family members are welcome and encouraged to attend. \nRegister Online\nFor questions\, call 903-408-5164.
URL:https://www.huntregional.org/event/breastfeeding-education-class/2026-04-18/
CATEGORIES:Home Featured
ATTACH;FMTTYPE=image/jpeg:https://www.huntregional.org/wp-content/uploads/2024/09/childbirth.jpg
END:VEVENT
END:VCALENDAR